BEGIN:VCALENDAR
VERSION:2.0
PRODID:-//Le SIM Murois - ECPv4.6.7//NONSGML v1.0//EN
CALSCALE:GREGORIAN
METHOD:PUBLISH
X-WR-CALNAME:Le SIM Murois
X-ORIGINAL-URL:https://simurois.fr
X-WR-CALDESC:Events for Le SIM Murois
BEGIN:VEVENT
DTSTART;TZID=Europe/Paris:20201028T140000
DTEND;TZID=Europe/Paris:20201028T160000
DTSTAMP:20260421T225442
CREATED:20201026T141051Z
LAST-MODIFIED:20201026T141051Z
UID:3253-1603893600-1603900800@simurois.fr
SUMMARY:Ninja Halloween
DESCRIPTION:Venez fêter Halloween à la Piscine Intercommunale Muroise ? \n? L’équipe de la piscine vous propose\, dans une ambiance halloweenesque\, une animation inspirée du célèbre jeu télévisé avec parcours aquatiques et chronos : \n➡ le mercredi 28 octobre de 14h à 16h \n➡ le vendredi 30 octobre de 10h à 12h. \n⚠  Activité réservée aux enfants et ados de 8 à 17ans. Parents accompagnateurs non autorisés. \nTarifs : Résidents 2.50€ – Extérieurs 4.40€ \nRenseignements et Inscription à la Piscine ou au 04 72 48 63 46. \n
URL:https://simurois.fr/event/ninja-halloween/
CATEGORIES:Piscine
ATTACH;FMTTYPE=image/jpeg:https://simurois.fr/wp-content/uploads/2020/10/Ninja-Halloween-v3.jpg
END:VEVENT
END:VCALENDAR