BEGIN:VCALENDAR
VERSION:2.0
PRODID:-//Le SIM Murois - ECPv4.6.7//NONSGML v1.0//EN
CALSCALE:GREGORIAN
METHOD:PUBLISH
X-WR-CALNAME:Le SIM Murois
X-ORIGINAL-URL:https://simurois.fr
X-WR-CALDESC:Events for Le SIM Murois
BEGIN:VEVENT
DTSTART;TZID=Europe/Paris:20201102T080000
DTEND;TZID=Europe/Paris:20201201T170000
DTSTAMP:20260421T212437
CREATED:20201030T133558Z
LAST-MODIFIED:20201030T133558Z
UID:3264-1604304000-1606842000@simurois.fr
SUMMARY:Médiathèque Intercommunale Muroise / Fermeture au public / Mise en place d'un drive culturel
DESCRIPTION:Chers lecteurs\, chères lectrices\, \nSuite  aux nouvelles mesures gouvernementales\, la Médiathèque Intercommunale Muroise se voit dans l’obligation de fermer au public dès le vendredi 30 octobre. \nPour autant\, nous sommes heureux de vous proposer un service de drive culturel\, accessible dès lundi aux horaires habituels ! \nPour cela\, différentes étapes sont nécessaires : \n–Choisissez vos documents sur notre catalogue en ligne en vous assurant qu’ils soient disponibles \n–Envoyez-nous la liste de vos souhaits (titre\, auteur\, code-barres) à l’adresse suivante : biblio1murois@simurois.fr\, accompagnée de votre nom et numéro de carte \n-Vous recevrez ensuite un mail vous confirmant que votre commande est prête \n-Vous pourrez alors vous rendre sur le site MyRezapp pour réserver le créneau qui vous convient \n-Vous recevez ensuite un mail vous confirmant que le créneau est accepté \n–Présentez-vous à l’heure choisie avec les documents que vous souhaitez rendre\, votre masque et votre sac\, et récupérez vos documents \nEt voilà\, vous pourrez ainsi profiter de ce nouveau confinement pour lire\, écouter\, regarder… Bref\, découvrir ! \nSi toutefois vous rencontriez un quelconque problème\, n’hésitez pas à nous contacter au 04.78.40.75.82 ou à l’adresse mail biblio1murois@simurois.fr. \nA très bientôt de vous recevoir. \n
URL:https://simurois.fr/event/mediatheque-intercommunale-muroise-fermeture-au-public-mise-en-place-dun-drive-culturel/
CATEGORIES:Médiathèque
ATTACH;FMTTYPE=image/jpeg:https://simurois.fr/wp-content/uploads/2020/10/SIMweb450.jpg
ORGANIZER;CN="M%C3%A9diath%C3%A8que":MAILTO:biblio1murois@simurois.fr
END:VEVENT
END:VCALENDAR