BEGIN:VCALENDAR
VERSION:2.0
PRODID:-//Le SIM Murois - ECPv4.6.7//NONSGML v1.0//EN
CALSCALE:GREGORIAN
METHOD:PUBLISH
X-WR-CALNAME:Le SIM Murois
X-ORIGINAL-URL:https://simurois.fr
X-WR-CALDESC:Events for Le SIM Murois
BEGIN:VEVENT
DTSTART;TZID=Europe/Paris:20220611T100000
DTEND;TZID=Europe/Paris:20220611T120000
DTSTAMP:20260421T190143
CREATED:20180820T152852Z
LAST-MODIFIED:20220212T121651Z
UID:1843-1654941600-1654948800@simurois.fr
SUMMARY:Heure du conte "Partons en voyage : Les 5 continents"
DESCRIPTION:La Médiathèque et ses conteuses vous proposent l’Heure du conte sur le thème « Partons en voyage : Les 5 continents »\, le samedi 11 juin à 10h. \nRenseignements et Inscriptions à la Médiathèque ou au 04 78 40 75 82. \n  \n
URL:https://simurois.fr/event/heure-du-conte-noel/
CATEGORIES:Médiathèque
ATTACH;FMTTYPE=image/jpeg:https://simurois.fr/wp-content/uploads/2018/08/voyage.jpg
ORGANIZER;CN="M%C3%A9diath%C3%A8que":MAILTO:biblio1murois@simurois.fr
END:VEVENT
END:VCALENDAR