BEGIN:VCALENDAR
VERSION:2.0
PRODID:-//Le SIM Murois - ECPv4.6.7//NONSGML v1.0//EN
CALSCALE:GREGORIAN
METHOD:PUBLISH
X-WR-CALNAME:Le SIM Murois
X-ORIGINAL-URL:https://simurois.fr
X-WR-CALDESC:Events for Le SIM Murois
BEGIN:VEVENT
DTSTART;TZID=Europe/Paris:20201221T140000
DTEND;TZID=Europe/Paris:20201221T163000
DTSTAMP:20260421T165254
CREATED:20201214T144836Z
LAST-MODIFIED:20201214T144836Z
UID:3308-1608559200-1608568200@simurois.fr
SUMMARY:Escape Game de Noël à la piscine
DESCRIPTION:L’équipe de la piscine vous propose un Escape Game sur le thème de Noël le lundi 21 décembre de 14h00 à 16h30. \nActivité réservée aux enfants et adolescents de 8 à 12 ans. Parent accompagnateur non autorisé. \nTarifs : résidents 2.50€ / extérieurs 4.40 € \nRenseignements et inscription à la piscine au 04.72.48.63.46 \n
URL:https://simurois.fr/event/escape-game-de-noel-a-la-piscine/
ATTACH;FMTTYPE=image/png:https://simurois.fr/wp-content/uploads/2020/12/Escape-game-piscine.png
END:VEVENT
END:VCALENDAR