BEGIN:VCALENDAR
VERSION:2.0
PRODID:-//Le SIM Murois - ECPv4.6.7//NONSGML v1.0//EN
CALSCALE:GREGORIAN
METHOD:PUBLISH
X-WR-CALNAME:Le SIM Murois
X-ORIGINAL-URL:https://simurois.fr
X-WR-CALDESC:Events for Le SIM Murois
BEGIN:VEVENT
DTSTART;TZID=Europe/Paris:20210625T193000
DTEND;TZID=Europe/Paris:20210625T213000
DTSTAMP:20260419T143115
CREATED:20210505T132430Z
LAST-MODIFIED:20210505T132430Z
UID:3498-1624649400-1624656600@simurois.fr
SUMMARY:Conférence sur la parentalité "Et si on se parlait autrement ?"
DESCRIPTION:Cette conférence sur la parentalité « Et si on se parlait autrement ?« \, proposée par l’association Moments Soie\, présente des outils de communication adulte / enfant selon l’approche Faber et Mazlish. \nRDV le vendredi 25 juin à 19h30. \nCette méthode de communication respectueuse et bienveillante permet de mieux comprendre les\nsentiments des enfants et d’acquérir les outils pour y répondre et créer un climat apaisé. \nPublic Adulte. Sur inscription. \nPort du masque obligatoire dès 11 ans. \n  \n  \n
URL:https://simurois.fr/event/conference-sur-la-parentalite-et-si-on-se-parlait-autrement-2/
CATEGORIES:Médiathèque
ATTACH;FMTTYPE=image/png:https://simurois.fr/wp-content/uploads/2021/05/moments-soie.png
ORGANIZER;CN="M%C3%A9diath%C3%A8que":MAILTO:biblio1murois@simurois.fr
END:VEVENT
END:VCALENDAR