BEGIN:VCALENDAR
VERSION:2.0
PRODID:-//Le SIM Murois - ECPv4.6.7//NONSGML v1.0//EN
CALSCALE:GREGORIAN
METHOD:PUBLISH
X-WR-CALNAME:Le SIM Murois
X-ORIGINAL-URL:https://simurois.fr
X-WR-CALDESC:Events for Le SIM Murois
BEGIN:VEVENT
DTSTART;TZID=Europe/Paris:20210609T190000
DTEND;TZID=Europe/Paris:20210609T210000
DTSTAMP:20260419T124322
CREATED:20210601T135750Z
LAST-MODIFIED:20210601T135938Z
UID:3526-1623265200-1623272400@simurois.fr
SUMMARY:Comité syndical
DESCRIPTION:Veuillez trouver ci-après l’ordre du jour : Convocation 9 juin 2021 \n
URL:https://simurois.fr/event/comite-syndical-mercredi-9-juin-2021/
CATEGORIES:Le Sim
ATTACH;FMTTYPE=image/jpeg:https://simurois.fr/wp-content/uploads/2021/06/Affiche-sim.jpg
END:VEVENT
END:VCALENDAR