BEGIN:VCALENDAR
VERSION:2.0
PRODID:-//Le SIM Murois - ECPv4.6.7//NONSGML v1.0//EN
CALSCALE:GREGORIAN
METHOD:PUBLISH
X-WR-CALNAME:Le SIM Murois
X-ORIGINAL-URL:https://simurois.fr
X-WR-CALDESC:Events for Le SIM Murois
BEGIN:VEVENT
DTSTART;TZID=Europe/Paris:20201209T190000
DTEND;TZID=Europe/Paris:20201209T210000
DTSTAMP:20260421T180914
CREATED:20201203T115159Z
LAST-MODIFIED:20201203T115446Z
UID:3280-1607540400-1607547600@simurois.fr
SUMMARY:Comité syndical
DESCRIPTION:Retrouvez ci-après l’ordre du jour du prochain comité syndical : Ordre du jour – Séance du 9 décembre 2020 \n
URL:https://simurois.fr/event/comite-syndical-8/
ATTACH;FMTTYPE=image/jpeg:https://simurois.fr/wp-content/uploads/2020/12/Affiche-SIM-e1606996470899.jpg
END:VEVENT
END:VCALENDAR