BEGIN:VCALENDAR
VERSION:2.0
PRODID:-//Le SIM Murois - ECPv4.6.7//NONSGML v1.0//EN
CALSCALE:GREGORIAN
METHOD:PUBLISH
X-WR-CALNAME:Le SIM Murois
X-ORIGINAL-URL:https://simurois.fr
X-WR-CALDESC:Events for Le SIM Murois
BEGIN:VEVENT
DTSTART;TZID=Europe/Paris:20220214T093000
DTEND;TZID=Europe/Paris:20220214T143000
DTSTAMP:20260420T084547
CREATED:20180110T095811Z
LAST-MODIFIED:20211204T090755Z
UID:1265-1644831000-1644849000@simurois.fr
SUMMARY:Ateliers Jeux Vidéo
DESCRIPTION:En solo ou en équipe\, venez défier vos amis lors de battles de jeux vidéo sur Nintendo Switch. \nLes bibliothécaires vous proposent une séance le lundi 14 février (plusieurs séances)\, pour voyager dans l’univers des jeux vidéos ! \nPlaces limitées à 4 participants par séance. Enfants dès 8 ans. \nRenseignements et Inscriptions à la Médiathèque ou au 04 78 40 75 82. \n  \n
URL:https://simurois.fr/event/ateliers-jeux-video/
CATEGORIES:Médiathèque
ATTACH;FMTTYPE=image/jpeg:https://simurois.fr/wp-content/uploads/2018/12/switch.jpg
ORGANIZER;CN="M%C3%A9diath%C3%A8que":MAILTO:biblio1murois@simurois.fr
END:VEVENT
END:VCALENDAR