BEGIN:VCALENDAR
VERSION:2.0
PRODID:-//Le SIM Murois - ECPv4.6.7//NONSGML v1.0//EN
CALSCALE:GREGORIAN
METHOD:PUBLISH
X-WR-CALNAME:Le SIM Murois
X-ORIGINAL-URL:https://simurois.fr
X-WR-CALDESC:Events for Le SIM Murois
BEGIN:VEVENT
DTSTART;TZID=Europe/Paris:20201113T163000
DTEND;TZID=Europe/Paris:20201113T183000
DTSTAMP:20260421T195258
CREATED:20200826T145729Z
LAST-MODIFIED:20200826T145729Z
UID:3132-1605285000-1605292200@simurois.fr
SUMMARY:Atelier d'écriture
DESCRIPTION:Dans le cadre d’un partenariat avec le collège et les écoles primaires des deux communes\, la Médiathèque Intercommunale Muroise propose des ateliers d’écriture avec Estelle Feuvrier. Une séance ado/adulte vous est proposée\, le vendredi 13 novembre à 16h30. \nPlaces limitées à 15 participants. Renseignements et Inscriptions à la Médiathèque ou au 04 78 40 75 82. \nPort du masque obligatoire pour les plus de 11 ans – Placement dans le respect du protocole sanitaire en cours. \n
URL:https://simurois.fr/event/atelier-decriture/
CATEGORIES:Médiathèque
ATTACH;FMTTYPE=image/jpeg:https://simurois.fr/wp-content/uploads/2020/08/atelier-écriture.jpg
ORGANIZER;CN="M%C3%A9diath%C3%A8que":MAILTO:biblio1murois@simurois.fr
END:VEVENT
END:VCALENDAR