BEGIN:VCALENDAR
VERSION:2.0
PRODID:-//Le SIM Murois - ECPv4.6.7//NONSGML v1.0//EN
CALSCALE:GREGORIAN
METHOD:PUBLISH
X-WR-CALNAME:Le SIM Murois
X-ORIGINAL-URL:https://simurois.fr
X-WR-CALDESC:Events for Le SIM Murois
BEGIN:VEVENT
DTSTART;TZID=Europe/Paris:20230828T060000
DTEND;TZID=Europe/Paris:20230910T130000
DTSTAMP:20260420T010852
CREATED:20230716T101125Z
LAST-MODIFIED:20230816T130016Z
UID:5663-1693202400-1694350800@simurois.fr
SUMMARY:FERMETURE PISCINE POUR VIDANGES ET ENTRETIENS RÉGLEMENTAIRES
DESCRIPTION:\nLa piscine Intercommunale Muroise se refait une beauté pour vous accueillir dés le Lundi 10 septembre 2023. \nFERMETURE POUR ENTRETIENS ET VIDANGES RÉGLEMENTAIRES DES BASSINS DU LUNDI 28 AOUT JUSQU’AU DIMANCHE 10 SEPTEMBRE 2023. \nNous vous remercions par avance pour votre compréhension. \n\n
URL:https://simurois.fr/event/fermeture-piscine-pour-vidanges-et-entretiens-reglementaires/
CATEGORIES:Associations,Le Sim,Médiathèque,Piscine
ATTACH;FMTTYPE=image/jpeg:https://simurois.fr/wp-content/uploads/2018/01/fermeture-piscine-1.jpg
END:VEVENT
END:VCALENDAR