BEGIN:VCALENDAR
VERSION:2.0
PRODID:-//Le SIM Murois - ECPv4.6.7//NONSGML v1.0//EN
CALSCALE:GREGORIAN
METHOD:PUBLISH
X-WR-CALNAME:Le SIM Murois
X-ORIGINAL-URL:https://simurois.fr
X-WR-CALDESC:Events for Le SIM Murois
BEGIN:VEVENT
DTSTART;TZID=Europe/Paris:20220513T200000
DTEND;TZID=Europe/Paris:20220513T213000
DTSTAMP:20260421T135704
CREATED:20200108T121831Z
LAST-MODIFIED:20220212T120831Z
UID:2638-1652472000-1652477400@simurois.fr
SUMMARY:Spectacle familial "Perché"
DESCRIPTION:La Médiathèque Intercommunale Muroise et Olivier Ponsot vous propose un spectacle familial « Perché »  : \nOlivier Ponsot est un conteur déjanté\, décalé\, décoiffé\, monté sur roulement à billes de clown. Il revisite le conte à la sauce contemporaine. Il s’amuse\, sautille\, pétille\, jongle\, s’étonne et étonne le public avec les frontières et les codes de cet art ancestral\, celui de raconter des histoires. Tantôt bruitées\, tantôt mimées\, tantôt scandées\, slamées ou simplement racontées\, ses histoires sont comme des petites graines de malices poil à gratter ou bien encore des petits bouts de rien\, des petits bouts d’amour qu’il délivre de-ci de-là. \nTout public dès 7 ans. \nRenseignements et Inscriptions à la Médiathèque ou au 04 78 40 75 82 \n  \n
URL:https://simurois.fr/event/spectacle-familial-el-circo-plumo/
CATEGORIES:Médiathèque
ATTACH;FMTTYPE=image/png:https://simurois.fr/wp-content/uploads/2020/01/olivier.png
ORGANIZER;CN="M%C3%A9diath%C3%A8que":MAILTO:biblio1murois@simurois.fr
END:VEVENT
END:VCALENDAR