BEGIN:VCALENDAR
VERSION:2.0
PRODID:-//Le SIM Murois - ECPv4.6.7//NONSGML v1.0//EN
CALSCALE:GREGORIAN
METHOD:PUBLISH
X-WR-CALNAME:Le SIM Murois
X-ORIGINAL-URL:https://simurois.fr
X-WR-CALDESC:Events for Le SIM Murois
BEGIN:VEVENT
DTSTART;TZID=Europe/Paris:20211222T190000
DTEND;TZID=Europe/Paris:20211222T190000
DTSTAMP:20260420T152358
CREATED:20211220T093851Z
LAST-MODIFIED:20211220T093851Z
UID:4344-1640199600-1640199600@simurois.fr
SUMMARY:Comité Syndical
DESCRIPTION:Veuillez trouver ci-après l’ordre du jour : 1 – Convocation 22 décembre 2021 \n
URL:https://simurois.fr/event/comite-syndical-10/
ATTACH;FMTTYPE=image/jpeg:https://simurois.fr/wp-content/uploads/2017/11/Délibération-illustration.jpg
END:VEVENT
END:VCALENDAR